Package: limpca Version: 1.3.0 Command: /Library/Frameworks/R.framework/Resources/bin/R CMD INSTALL limpca StartedAt: 2025-02-09 15:42:40 -0500 (Sun, 09 Feb 2025) EndedAt: 2025-02-09 15:43:15 -0500 (Sun, 09 Feb 2025) EllapsedTime: 34.5 seconds RetCode: 0 Status: OK