Package: limpca Version: 1.3.0 Command: rm -rf limpca.buildbin-libdir && mkdir limpca.buildbin-libdir && E:\biocbuild\bbs-3.21-bioc\R\bin\R.exe CMD INSTALL --build --library=limpca.buildbin-libdir limpca_1.3.0.tar.gz StartedAt: 2025-02-04 08:15:32 -0500 (Tue, 04 Feb 2025) EndedAt: 2025-02-04 08:16:13 -0500 (Tue, 04 Feb 2025) EllapsedTime: 40.4 seconds RetCode: 0 Status: OK PackageFile: limpca_1.3.0.zip PackageFileSize: 2.194 MiB