Package: limpca Version: 1.3.0 Command: chmod a+r limpca -R && E:\biocbuild\bbs-3.21-bioc\R\bin\R.exe CMD build --keep-empty-dirs --no-resave-data limpca StartedAt: 2025-02-09 19:33:11 -0500 (Sun, 09 Feb 2025) EndedAt: 2025-02-09 19:37:01 -0500 (Sun, 09 Feb 2025) EllapsedTime: 230.0 seconds RetCode: 1 Status: ERROR PackageFile: None PackageFileSize: NA