Package: lineagespot Version: 1.11.0 Command: rm -rf lineagespot.buildbin-libdir && mkdir lineagespot.buildbin-libdir && /Users/biocbuild/BBS/utils/build-universal.sh lineagespot_1.11.0.tar.gz /Library/Frameworks/R.framework/Resources/bin/R lineagespot.buildbin-libdir StartedAt: 2025-02-09 22:19:12 -0500 (Sun, 09 Feb 2025) EndedAt: 2025-02-09 22:19:28 -0500 (Sun, 09 Feb 2025) EllapsedTime: 16.4 seconds RetCode: 0 Status: OK PackageFile: lineagespot_1.11.0.tgz PackageFileSize: 767.6 KiB