Package: lineagespot Version: 1.11.0 Command: /Library/Frameworks/R.framework/Resources/bin/R CMD check --install=check:lineagespot.install-out.txt --library=/Library/Frameworks/R.framework/Resources/library --no-vignettes --timings lineagespot_1.11.0.tar.gz StartedAt: 2025-02-09 19:51:36 -0500 (Sun, 09 Feb 2025) EndedAt: 2025-02-09 19:53:44 -0500 (Sun, 09 Feb 2025) EllapsedTime: 128.8 seconds RetCode: 0 Status: OK CheckDir: lineagespot.Rcheck Warnings: 0