Package: lineagespot Version: 1.11.0 Command: /home/biocbuild/R/R/bin/R CMD build --keep-empty-dirs --no-resave-data lineagespot StartedAt: 2025-01-28 23:55:11 -0000 (Tue, 28 Jan 2025) EndedAt: 2025-01-28 23:56:43 -0000 (Tue, 28 Jan 2025) EllapsedTime: 92.0 seconds RetCode: 0 Status: OK PackageFile: lineagespot_1.11.0.tar.gz PackageFileSize: 785.5 KiB