Package: lineagespot Version: 1.11.0 Command: /home/biocbuild/R/R/bin/R CMD check --install=check:lineagespot.install-out.txt --library=/home/biocbuild/R/R/site-library --no-vignettes --timings lineagespot_1.11.0.tar.gz StartedAt: 2025-01-28 11:55:33 -0000 (Tue, 28 Jan 2025) EndedAt: 2025-01-28 12:03:32 -0000 (Tue, 28 Jan 2025) EllapsedTime: 478.6 seconds RetCode: 0 Status: OK CheckDir: lineagespot.Rcheck Warnings: 0