Package: lineagespot Version: 1.11.0 Command: /Library/Frameworks/R.framework/Resources/bin/R CMD build --keep-empty-dirs --no-resave-data lineagespot StartedAt: 2025-02-09 17:15:24 -0500 (Sun, 09 Feb 2025) EndedAt: 2025-02-09 17:16:38 -0500 (Sun, 09 Feb 2025) EllapsedTime: 74.3 seconds RetCode: 0 Status: OK PackageFile: lineagespot_1.11.0.tar.gz PackageFileSize: 718.6 KiB