Package: lineagespot Version: 1.11.0 Command: /Library/Frameworks/R.framework/Resources/bin/R CMD INSTALL lineagespot StartedAt: 2025-02-03 15:25:51 -0500 (Mon, 03 Feb 2025) EndedAt: 2025-02-03 15:26:40 -0500 (Mon, 03 Feb 2025) EllapsedTime: 48.4 seconds RetCode: 0 Status: OK