Package: lineagespot Version: 1.11.0 Command: /home/biocbuild/bbs-3.21-bioc/R/bin/R CMD check --install=check:lineagespot.install-out.txt --library=/home/biocbuild/bbs-3.21-bioc/R/site-library --timings lineagespot_1.11.0.tar.gz StartedAt: 2025-02-04 23:37:26 -0500 (Tue, 04 Feb 2025) EndedAt: 2025-02-04 23:43:54 -0500 (Tue, 04 Feb 2025) EllapsedTime: 388.7 seconds RetCode: 0 Status: OK CheckDir: lineagespot.Rcheck Warnings: 0