Package: lipidr Version: 2.21.0 Command: /Library/Frameworks/R.framework/Resources/bin/R CMD INSTALL lipidr StartedAt: 2025-02-09 15:26:13 -0500 (Sun, 09 Feb 2025) EndedAt: 2025-02-09 15:26:24 -0500 (Sun, 09 Feb 2025) EllapsedTime: 11.4 seconds RetCode: 0 Status: OK