Package: lisaClust Version: 1.15.6 Command: /Library/Frameworks/R.framework/Resources/bin/R CMD check --install=check:lisaClust.install-out.txt --library=/Library/Frameworks/R.framework/Resources/library --no-vignettes --timings lisaClust_1.15.6.tar.gz StartedAt: 2025-02-04 19:53:59 -0500 (Tue, 04 Feb 2025) EndedAt: 2025-02-04 19:55:47 -0500 (Tue, 04 Feb 2025) EllapsedTime: 108.5 seconds RetCode: 0 Status: OK CheckDir: lisaClust.Rcheck Warnings: 0