Package: lisaClust Version: 1.15.6 Command: /home/biocbuild/bbs-3.21-bioc/R/bin/R CMD build --keep-empty-dirs --no-resave-data lisaClust StartedAt: 2025-02-04 17:50:34 -0500 (Tue, 04 Feb 2025) EndedAt: 2025-02-04 17:54:56 -0500 (Tue, 04 Feb 2025) EllapsedTime: 262.4 seconds RetCode: 0 Status: OK PackageFile: lisaClust_1.15.6.tar.gz PackageFileSize: 2.385 MiB