Package: lisaClust Version: 1.15.6 Command: rm -rf lisaClust.buildbin-libdir && mkdir lisaClust.buildbin-libdir && E:\biocbuild\bbs-3.21-bioc\R\bin\R.exe CMD INSTALL --build --library=lisaClust.buildbin-libdir lisaClust_1.15.6.tar.gz StartedAt: 2025-02-10 08:02:22 -0500 (Mon, 10 Feb 2025) EndedAt: 2025-02-10 08:03:13 -0500 (Mon, 10 Feb 2025) EllapsedTime: 50.4 seconds RetCode: 0 Status: OK PackageFile: lisaClust_1.15.6.zip PackageFileSize: 945.9 KiB