Package: lisaClust Version: 1.15.6 Command: E:\biocbuild\bbs-3.21-bioc\R\bin\R.exe CMD check --no-multiarch --install=check:lisaClust.install-out.txt --library=E:\biocbuild\bbs-3.21-bioc\R\library --no-vignettes --timings lisaClust_1.15.6.tar.gz StartedAt: 2025-02-10 02:24:48 -0500 (Mon, 10 Feb 2025) EndedAt: 2025-02-10 02:30:41 -0500 (Mon, 10 Feb 2025) EllapsedTime: 352.8 seconds RetCode: 0 Status: OK CheckDir: lisaClust.Rcheck Warnings: 0