Package: lisaClust Version: 1.15.6 Command: E:\biocbuild\bbs-3.21-bioc\R\bin\R.exe CMD INSTALL lisaClust StartedAt: 2025-02-09 16:37:45 -0500 (Sun, 09 Feb 2025) EndedAt: 2025-02-09 16:38:20 -0500 (Sun, 09 Feb 2025) EllapsedTime: 35.6 seconds RetCode: 0 Status: OK