Package: lmdme Version: 1.49.0 Command: rm -rf lmdme.buildbin-libdir && mkdir lmdme.buildbin-libdir && /Users/biocbuild/BBS/utils/build-universal.sh lmdme_1.49.0.tar.gz /Library/Frameworks/R.framework/Resources/bin/R lmdme.buildbin-libdir StartedAt: 2025-02-12 22:24:30 -0500 (Wed, 12 Feb 2025) EndedAt: 2025-02-12 22:24:33 -0500 (Wed, 12 Feb 2025) EllapsedTime: 3.0 seconds RetCode: 0 Status: OK PackageFile: lmdme_1.49.0.tgz PackageFileSize: 732 KiB