Package: lmdme Version: 1.49.0 Command: /Library/Frameworks/R.framework/Resources/bin/R CMD check --install=check:lmdme.install-out.txt --library=/Library/Frameworks/R.framework/Resources/library --no-vignettes --timings lmdme_1.49.0.tar.gz StartedAt: 2025-02-09 19:52:10 -0500 (Sun, 09 Feb 2025) EndedAt: 2025-02-09 19:52:32 -0500 (Sun, 09 Feb 2025) EllapsedTime: 22.3 seconds RetCode: 0 Status: WARNINGS CheckDir: lmdme.Rcheck Warnings: 1