Package: lmdme Version: 1.49.0 Command: /home/biocbuild/R/R/bin/R CMD build --keep-empty-dirs --no-resave-data lmdme StartedAt: 2025-01-28 23:56:34 -0000 (Tue, 28 Jan 2025) EndedAt: 2025-01-28 23:56:47 -0000 (Tue, 28 Jan 2025) EllapsedTime: 13.0 seconds RetCode: 0 Status: OK PackageFile: lmdme_1.49.0.tar.gz PackageFileSize: 594.8 KiB