Package: lmdme Version: 1.49.0 Command: /home/biocbuild/R/R/bin/R CMD check --install=check:lmdme.install-out.txt --library=/home/biocbuild/R/R/site-library --no-vignettes --timings lmdme_1.49.0.tar.gz StartedAt: 2025-01-28 11:56:32 -0000 (Tue, 28 Jan 2025) EndedAt: 2025-01-28 11:57:30 -0000 (Tue, 28 Jan 2025) EllapsedTime: 58.1 seconds RetCode: 0 Status: WARNINGS CheckDir: lmdme.Rcheck Warnings: 1