Package: lmdme Version: 1.49.0 Command: rm -rf lmdme.buildbin-libdir && mkdir lmdme.buildbin-libdir && /Users/biocbuild/BBS/utils/build-universal.sh lmdme_1.49.0.tar.gz /Library/Frameworks/R.framework/Resources/bin/R lmdme.buildbin-libdir StartedAt: 2025-02-10 01:00:11 -0500 (Mon, 10 Feb 2025) EndedAt: 2025-02-10 01:00:19 -0500 (Mon, 10 Feb 2025) EllapsedTime: 8.1 seconds RetCode: 0 Status: OK PackageFile: lmdme_1.49.0.tgz PackageFileSize: 731.4 KiB