Package: lmdme Version: 1.49.0 Command: /home/biocbuild/bbs-3.21-bioc/R/bin/R CMD check --install=check:lmdme.install-out.txt --library=/home/biocbuild/bbs-3.21-bioc/R/site-library --timings lmdme_1.49.0.tar.gz StartedAt: 2025-02-09 23:39:42 -0500 (Sun, 09 Feb 2025) EndedAt: 2025-02-09 23:40:34 -0500 (Sun, 09 Feb 2025) EllapsedTime: 51.1 seconds RetCode: 0 Status: WARNINGS CheckDir: lmdme.Rcheck Warnings: 1