Package: lmdme Version: 1.49.0 Command: rm -rf lmdme.buildbin-libdir && mkdir lmdme.buildbin-libdir && E:\biocbuild\bbs-3.21-bioc\R\bin\R.exe CMD INSTALL --build --library=lmdme.buildbin-libdir lmdme_1.49.0.tar.gz StartedAt: 2025-02-10 08:02:24 -0500 (Mon, 10 Feb 2025) EndedAt: 2025-02-10 08:02:50 -0500 (Mon, 10 Feb 2025) EllapsedTime: 25.9 seconds RetCode: 0 Status: OK PackageFile: lmdme_1.49.0.zip PackageFileSize: 736.8 KiB