Package: lmdme Version: 1.49.0 Command: chmod a+r lmdme -R && E:\biocbuild\bbs-3.21-bioc\R\bin\R.exe CMD build --keep-empty-dirs --no-resave-data lmdme StartedAt: 2025-02-09 19:34:45 -0500 (Sun, 09 Feb 2025) EndedAt: 2025-02-09 19:35:16 -0500 (Sun, 09 Feb 2025) EllapsedTime: 30.8 seconds RetCode: 0 Status: OK PackageFile: lmdme_1.49.0.tar.gz PackageFileSize: 611.8 KiB