Package: lmdme Version: 1.49.0 Command: E:\biocbuild\bbs-3.21-bioc\R\bin\R.exe CMD INSTALL lmdme StartedAt: 2025-02-09 15:27:30 -0500 (Sun, 09 Feb 2025) EndedAt: 2025-02-09 15:27:57 -0500 (Sun, 09 Feb 2025) EllapsedTime: 26.7 seconds RetCode: 0 Status: OK