Package: loci2path Version: 1.27.0 Command: /home/biocbuild/R/R/bin/R CMD INSTALL loci2path StartedAt: 2025-01-29 19:50:42 -0000 (Wed, 29 Jan 2025) EndedAt: 2025-01-29 19:50:57 -0000 (Wed, 29 Jan 2025) EllapsedTime: 15.4 seconds RetCode: 0 Status: OK