Package: loci2path Version: 1.27.0 Command: rm -rf loci2path.buildbin-libdir && mkdir loci2path.buildbin-libdir && /Users/biocbuild/BBS/utils/build-universal.sh loci2path_1.27.0.tar.gz /Library/Frameworks/R.framework/Resources/bin/R loci2path.buildbin-libdir StartedAt: 2025-02-13 00:43:20 -0500 (Thu, 13 Feb 2025) EndedAt: 2025-02-13 00:43:38 -0500 (Thu, 13 Feb 2025) EllapsedTime: 18.6 seconds RetCode: 0 Status: OK PackageFile: loci2path_1.27.0.tgz PackageFileSize: 805.7 KiB