Package: loci2path Version: 1.27.0 Command: /Library/Frameworks/R.framework/Resources/bin/R CMD build --keep-empty-dirs --no-resave-data loci2path StartedAt: 2025-02-09 17:15:56 -0500 (Sun, 09 Feb 2025) EndedAt: 2025-02-09 17:16:21 -0500 (Sun, 09 Feb 2025) EllapsedTime: 25.1 seconds RetCode: 0 Status: OK PackageFile: loci2path_1.27.0.tar.gz PackageFileSize: 609.8 KiB