Package: loci2path Version: 1.27.0 Command: /Library/Frameworks/R.framework/Resources/bin/R CMD check --install=check:loci2path.install-out.txt --library=/Library/Frameworks/R.framework/Resources/library --no-vignettes --timings loci2path_1.27.0.tar.gz StartedAt: 2025-02-09 21:35:50 -0500 (Sun, 09 Feb 2025) EndedAt: 2025-02-09 21:37:31 -0500 (Sun, 09 Feb 2025) EllapsedTime: 100.8 seconds RetCode: 0 Status: OK CheckDir: loci2path.Rcheck Warnings: 0