Package: loci2path Version: 1.27.0 Command: chmod a+r loci2path -R && E:\biocbuild\bbs-3.21-bioc\R\bin\R.exe CMD build --keep-empty-dirs --no-resave-data loci2path StartedAt: 2025-02-09 19:34:50 -0500 (Sun, 09 Feb 2025) EndedAt: 2025-02-09 19:35:33 -0500 (Sun, 09 Feb 2025) EllapsedTime: 43.3 seconds RetCode: 0 Status: OK PackageFile: loci2path_1.27.0.tar.gz PackageFileSize: 532.5 KiB