Package: loci2path Version: 1.27.0 Command: E:\biocbuild\bbs-3.21-bioc\R\bin\R.exe CMD check --no-multiarch --install=check:loci2path.install-out.txt --library=E:\biocbuild\bbs-3.21-bioc\R\library --no-vignettes --timings loci2path_1.27.0.tar.gz StartedAt: 2025-02-10 02:25:12 -0500 (Mon, 10 Feb 2025) EndedAt: 2025-02-10 02:26:54 -0500 (Mon, 10 Feb 2025) EllapsedTime: 101.5 seconds RetCode: 0 Status: OK CheckDir: loci2path.Rcheck Warnings: 0