Package: loci2path Version: 1.27.0 Command: E:\biocbuild\bbs-3.21-bioc\R\bin\R.exe CMD INSTALL loci2path StartedAt: 2025-02-12 15:43:34 -0500 (Wed, 12 Feb 2025) EndedAt: 2025-02-12 15:44:11 -0500 (Wed, 12 Feb 2025) EllapsedTime: 36.8 seconds RetCode: 0 Status: OK