Package: logicFS Version: 2.27.0 Command: /home/biocbuild/R/R/bin/R CMD check --install=check:logicFS.install-out.txt --library=/home/biocbuild/R/R/site-library --no-vignettes --timings logicFS_2.27.0.tar.gz StartedAt: 2025-01-28 11:57:07 -0000 (Tue, 28 Jan 2025) EndedAt: 2025-01-28 11:58:13 -0000 (Tue, 28 Jan 2025) EllapsedTime: 66.1 seconds RetCode: 0 Status: OK CheckDir: logicFS.Rcheck Warnings: 0