Package: logicFS Version: 2.27.0 Command: /Library/Frameworks/R.framework/Resources/bin/R CMD check --install=check:logicFS.install-out.txt --library=/Library/Frameworks/R.framework/Resources/library --no-vignettes --timings logicFS_2.27.0.tar.gz StartedAt: 2025-02-12 21:23:08 -0500 (Wed, 12 Feb 2025) EndedAt: 2025-02-12 21:24:18 -0500 (Wed, 12 Feb 2025) EllapsedTime: 69.6 seconds RetCode: 0 Status: OK CheckDir: logicFS.Rcheck Warnings: 0