Package: logicFS Version: 2.27.0 Command: /Library/Frameworks/R.framework/Resources/bin/R CMD INSTALL logicFS StartedAt: 2025-02-12 15:33:44 -0500 (Wed, 12 Feb 2025) EndedAt: 2025-02-12 15:33:56 -0500 (Wed, 12 Feb 2025) EllapsedTime: 12.2 seconds RetCode: 0 Status: OK