Package: logicFS Version: 2.27.0 Command: /home/biocbuild/bbs-3.21-bioc/R/bin/R CMD build --keep-empty-dirs --no-resave-data logicFS StartedAt: 2025-02-12 17:49:50 -0500 (Wed, 12 Feb 2025) EndedAt: 2025-02-12 17:50:03 -0500 (Wed, 12 Feb 2025) EllapsedTime: 13.0 seconds RetCode: 0 Status: OK PackageFile: logicFS_2.27.0.tar.gz PackageFileSize: 260.1 KiB