Package: logicFS Version: 2.27.0 Command: chmod a+r logicFS -R && E:\biocbuild\bbs-3.21-bioc\R\bin\R.exe CMD build --keep-empty-dirs --no-resave-data logicFS StartedAt: 2025-02-09 19:34:52 -0500 (Sun, 09 Feb 2025) EndedAt: 2025-02-09 19:35:27 -0500 (Sun, 09 Feb 2025) EllapsedTime: 35.4 seconds RetCode: 0 Status: OK PackageFile: logicFS_2.27.0.tar.gz PackageFileSize: 151.6 KiB