Package: lpNet Version: 2.39.0 Command: rm -rf lpNet.buildbin-libdir && mkdir lpNet.buildbin-libdir && /Users/biocbuild/BBS/utils/build-universal.sh lpNet_2.39.0.tar.gz /Library/Frameworks/R.framework/Resources/bin/R lpNet.buildbin-libdir StartedAt: 2025-02-09 22:19:22 -0500 (Sun, 09 Feb 2025) EndedAt: 2025-02-09 22:19:25 -0500 (Sun, 09 Feb 2025) EllapsedTime: 3.1 seconds RetCode: 0 Status: OK PackageFile: lpNet_2.39.0.tgz PackageFileSize: 405.6 KiB