Package: lpNet Version: 2.39.0 Command: /Library/Frameworks/R.framework/Resources/bin/R CMD check --install=check:lpNet.install-out.txt --library=/Library/Frameworks/R.framework/Resources/library --no-vignettes --timings lpNet_2.39.0.tar.gz StartedAt: 2025-02-09 19:52:35 -0500 (Sun, 09 Feb 2025) EndedAt: 2025-02-09 19:52:53 -0500 (Sun, 09 Feb 2025) EllapsedTime: 17.3 seconds RetCode: 0 Status: WARNINGS CheckDir: lpNet.Rcheck Warnings: 1