Package: lpNet Version: 2.39.0 Command: /home/biocbuild/R/R/bin/R CMD build --keep-empty-dirs --no-resave-data lpNet StartedAt: 2025-01-28 23:56:59 -0000 (Tue, 28 Jan 2025) EndedAt: 2025-01-28 23:57:42 -0000 (Tue, 28 Jan 2025) EllapsedTime: 43.0 seconds RetCode: 0 Status: OK PackageFile: lpNet_2.39.0.tar.gz PackageFileSize: 308.1 KiB