Package: lpNet Version: 2.39.0 Command: /home/biocbuild/bbs-3.21-bioc/R/bin/R CMD INSTALL lpNet StartedAt: 2025-02-04 15:13:26 -0500 (Tue, 04 Feb 2025) EndedAt: 2025-02-04 15:13:32 -0500 (Tue, 04 Feb 2025) EllapsedTime: 6.1 seconds RetCode: 0 Status: OK