Package: lpNet Version: 2.39.0 Command: rm -rf lpNet.buildbin-libdir && mkdir lpNet.buildbin-libdir && E:\biocbuild\bbs-3.21-bioc\R\bin\R.exe CMD INSTALL --build --library=lpNet.buildbin-libdir lpNet_2.39.0.tar.gz StartedAt: 2025-02-13 08:13:57 -0500 (Thu, 13 Feb 2025) EndedAt: 2025-02-13 08:14:17 -0500 (Thu, 13 Feb 2025) EllapsedTime: 20.2 seconds RetCode: 0 Status: OK PackageFile: lpNet_2.39.0.zip PackageFileSize: 319.5 KiB