Package: lpNet Version: 2.39.0 Command: chmod a+r lpNet -R && E:\biocbuild\bbs-3.21-bioc\R\bin\R.exe CMD build --keep-empty-dirs --no-resave-data lpNet StartedAt: 2025-02-12 19:40:37 -0500 (Wed, 12 Feb 2025) EndedAt: 2025-02-12 19:41:31 -0500 (Wed, 12 Feb 2025) EllapsedTime: 53.7 seconds RetCode: 0 Status: OK PackageFile: lpNet_2.39.0.tar.gz PackageFileSize: 219 KiB