Package: m6Aboost Version: 1.13.0 Command: rm -rf m6Aboost.buildbin-libdir && mkdir m6Aboost.buildbin-libdir && /Users/biocbuild/BBS/utils/build-universal.sh m6Aboost_1.13.0.tar.gz /Library/Frameworks/R.framework/Resources/bin/R m6Aboost.buildbin-libdir StartedAt: 2025-02-09 22:19:28 -0500 (Sun, 09 Feb 2025) EndedAt: 2025-02-09 22:19:48 -0500 (Sun, 09 Feb 2025) EllapsedTime: 19.4 seconds RetCode: 0 Status: OK PackageFile: m6Aboost_1.13.0.tgz PackageFileSize: 574.8 KiB