Package: m6Aboost Version: 1.13.0 Command: /Library/Frameworks/R.framework/Resources/bin/R CMD build --keep-empty-dirs --no-resave-data m6Aboost StartedAt: 2025-02-03 17:23:26 -0500 (Mon, 03 Feb 2025) EndedAt: 2025-02-03 17:23:58 -0500 (Mon, 03 Feb 2025) EllapsedTime: 31.3 seconds RetCode: 0 Status: OK PackageFile: m6Aboost_1.13.0.tar.gz PackageFileSize: 759.6 KiB