Package: m6Aboost Version: 1.13.0 Command: /Library/Frameworks/R.framework/Resources/bin/R CMD INSTALL m6Aboost StartedAt: 2025-02-03 15:58:30 -0500 (Mon, 03 Feb 2025) EndedAt: 2025-02-03 15:58:47 -0500 (Mon, 03 Feb 2025) EllapsedTime: 17.4 seconds RetCode: 0 Status: OK