Package: m6Aboost Version: 1.13.0 Command: /home/biocbuild/R/R/bin/R CMD check --install=check:m6Aboost.install-out.txt --library=/home/biocbuild/R/R/site-library --no-vignettes --timings m6Aboost_1.13.0.tar.gz StartedAt: 2025-01-28 11:58:58 -0000 (Tue, 28 Jan 2025) EndedAt: 2025-01-28 12:05:53 -0000 (Tue, 28 Jan 2025) EllapsedTime: 414.5 seconds RetCode: 0 Status: OK CheckDir: m6Aboost.Rcheck Warnings: 0