Package: m6Aboost Version: 1.13.0 Command: /home/biocbuild/R/R/bin/R CMD INSTALL m6Aboost StartedAt: 2025-01-29 20:24:13 -0000 (Wed, 29 Jan 2025) EndedAt: 2025-01-29 20:25:13 -0000 (Wed, 29 Jan 2025) EllapsedTime: 60.1 seconds RetCode: 0 Status: OK