Package: m6Aboost Version: 1.13.0 Command: rm -rf m6Aboost.buildbin-libdir && mkdir m6Aboost.buildbin-libdir && /Users/biocbuild/BBS/utils/build-universal.sh m6Aboost_1.13.0.tar.gz /Library/Frameworks/R.framework/Resources/bin/R m6Aboost.buildbin-libdir StartedAt: 2025-02-04 00:41:04 -0500 (Tue, 04 Feb 2025) EndedAt: 2025-02-04 00:42:05 -0500 (Tue, 04 Feb 2025) EllapsedTime: 61.4 seconds RetCode: 0 Status: OK PackageFile: m6Aboost_1.13.0.tgz PackageFileSize: 574.4 KiB