Package: m6Aboost Version: 1.13.0 Command: /Library/Frameworks/R.framework/Resources/bin/R CMD build --keep-empty-dirs --no-resave-data m6Aboost StartedAt: 2025-02-09 17:16:45 -0500 (Sun, 09 Feb 2025) EndedAt: 2025-02-09 17:18:11 -0500 (Sun, 09 Feb 2025) EllapsedTime: 85.8 seconds RetCode: 0 Status: OK PackageFile: m6Aboost_1.13.0.tar.gz PackageFileSize: 759.5 KiB